BEGIN:VCALENDAR
VERSION:2.0
PRODID:-//einhorn-Verlag+Druck GmbH - ECPv6.15.20//NONSGML v1.0//EN
CALSCALE:GREGORIAN
METHOD:PUBLISH
X-WR-CALNAME:einhorn-Verlag+Druck GmbH
X-ORIGINAL-URL:https://einhornverlag.de
X-WR-CALDESC:Veranstaltungen für einhorn-Verlag+Druck GmbH
REFRESH-INTERVAL;VALUE=DURATION:PT1H
X-Robots-Tag:noindex
X-PUBLISHED-TTL:PT1H
BEGIN:VTIMEZONE
TZID:Europe/Berlin
BEGIN:DAYLIGHT
TZOFFSETFROM:+0100
TZOFFSETTO:+0200
TZNAME:CEST
DTSTART:20220327T010000
END:DAYLIGHT
BEGIN:STANDARD
TZOFFSETFROM:+0200
TZOFFSETTO:+0100
TZNAME:CET
DTSTART:20221030T010000
END:STANDARD
BEGIN:DAYLIGHT
TZOFFSETFROM:+0100
TZOFFSETTO:+0200
TZNAME:CEST
DTSTART:20230326T010000
END:DAYLIGHT
BEGIN:STANDARD
TZOFFSETFROM:+0200
TZOFFSETTO:+0100
TZNAME:CET
DTSTART:20231029T010000
END:STANDARD
BEGIN:DAYLIGHT
TZOFFSETFROM:+0100
TZOFFSETTO:+0200
TZNAME:CEST
DTSTART:20240331T010000
END:DAYLIGHT
BEGIN:STANDARD
TZOFFSETFROM:+0200
TZOFFSETTO:+0100
TZNAME:CET
DTSTART:20241027T010000
END:STANDARD
END:VTIMEZONE
BEGIN:VEVENT
DTSTART;TZID=Europe/Berlin:20230127T193000
DTEND;TZID=Europe/Berlin:20230127T213000
DTSTAMP:20260425T164255
CREATED:20230112T095524Z
LAST-MODIFIED:20230112T095524Z
UID:8247-1674847800-1674855000@einhornverlag.de
SUMMARY:Hartwig Büsemeyer liest aus "Die Geister\, die er rief"
DESCRIPTION:Mit unserem Autor Hartwig Büsemeyer findet am Freitag\, den 27. Januar in der Ortsbücherei Aichwald-Schanbach eine ganz besondere Lesung statt. Hartwig Büsemeyer stellt sein Buch „Die Geister\, die er rief – Wie ein Kapuzinermönch die Obrigkeit narrte“ vor. Umrahmt wird die Lesung von der Musikgruppe „Gmender Geigerla“. \nEinlass ist ab 19 Uhr\, Lesungsbeginn um 19:30 Uhr. \nEintrittspreise: \n8 € im Vorverkauf in der Bücherei Aichwald und bei „Ben’s Schreibwaren und mehr“ \n10 € an der Abendkasse \n(mit AichwaldCard jeweils die Hälfte) \nInfos zum Buch:\nEin Schatz auf Schloss Baldern und Burg Katzenstein? \nDaran wollte die gräfliche Familie Oettingen-Baldern\, die das Schloss und die Burg am Rande des Nördlinger Ries bewohnte\, gern glauben. So hätten sich ihre finanziellen Sorgen in Luft aufgelöst. Deshalb vertrauten sie dem Kapuzinerpater Guido aus dem Kloster Ellwangen\, der behauptete\, in einer Geistererscheinung von diesem Schatz erfahren zu haben. Im Jahre 1735 erhielt er den Auftrag\, die Geister\, die den Schatz bewachten\, durch Exorzismus zu bezwingen. \nHartwig Büsemeyer lädt zu einer abenteuerlichen Reise in eine Zeit ein\, in der Glauben und Aberglauben noch nahe beieinanderstanden und oft seltsame Verbindungen eingingen … \nLebendig\, spannend\, mysteriös\, atmosphärisch\, fesselnd und humorvoll erzählt. \nDie Geschichte beruht auf Tatsachen und wurde von Hartwig Büsemeyer in detektivischer Feinarbeit brillant rekonstruiert. \nZUR LESEPROBE \n„Die Geister\, die er rief – Wie ein Kapuzinermönch die Obrigkeit narrte“ ist im Buchhandel und natürlich in unserem Onlineshop erhältlich. \n 
URL:https://einhornverlag.de/event/hartwig-buesemeyer-liest-aus-die-geister-die-er-rief/
LOCATION:Ortsbücherei Aichwald-Schanbach\, Hauptstraße 17\, Aichwald\, 73773
CATEGORIES:Termine
ATTACH;FMTTYPE=image/jpeg:https://einhornverlag.de/wp-content/uploads/2022/05/Die-Geister-die-er-rief-2.jpg
END:VEVENT
END:VCALENDAR