BEGIN:VCALENDAR
VERSION:2.0
PRODID:-//einhorn-Verlag+Druck GmbH - ECPv6.15.20//NONSGML v1.0//EN
CALSCALE:GREGORIAN
METHOD:PUBLISH
X-WR-CALNAME:einhorn-Verlag+Druck GmbH
X-ORIGINAL-URL:https://einhornverlag.de
X-WR-CALDESC:Veranstaltungen für einhorn-Verlag+Druck GmbH
REFRESH-INTERVAL;VALUE=DURATION:PT1H
X-Robots-Tag:noindex
X-PUBLISHED-TTL:PT1H
BEGIN:VTIMEZONE
TZID:Europe/Berlin
BEGIN:DAYLIGHT
TZOFFSETFROM:+0100
TZOFFSETTO:+0200
TZNAME:CEST
DTSTART:20230326T010000
END:DAYLIGHT
BEGIN:STANDARD
TZOFFSETFROM:+0200
TZOFFSETTO:+0100
TZNAME:CET
DTSTART:20231029T010000
END:STANDARD
BEGIN:DAYLIGHT
TZOFFSETFROM:+0100
TZOFFSETTO:+0200
TZNAME:CEST
DTSTART:20240331T010000
END:DAYLIGHT
BEGIN:STANDARD
TZOFFSETFROM:+0200
TZOFFSETTO:+0100
TZNAME:CET
DTSTART:20241027T010000
END:STANDARD
BEGIN:DAYLIGHT
TZOFFSETFROM:+0100
TZOFFSETTO:+0200
TZNAME:CEST
DTSTART:20250330T010000
END:DAYLIGHT
BEGIN:STANDARD
TZOFFSETFROM:+0200
TZOFFSETTO:+0100
TZNAME:CET
DTSTART:20251026T010000
END:STANDARD
END:VTIMEZONE
BEGIN:VEVENT
DTSTART;TZID=Europe/Berlin:20240503T190000
DTEND;TZID=Europe/Berlin:20240503T210000
DTSTAMP:20260421T132119
CREATED:20240412T084802Z
LAST-MODIFIED:20240412T084802Z
UID:10139-1714762800-1714770000@einhornverlag.de
SUMMARY:Premierenlesung "Sarg und Sense" in Lorch
DESCRIPTION:Am Freitag\, den 3. Mai stellt Christof Messerschmidt seine Anthologie „Sarg und Sense“ in der Buchhandlung Semicolon in Lorch vor. Beginn: 19 Uhr. \nGeschichten aus dem Leben.\nMeistens\, aber nicht immer\, findet uns der Tod im Alter. Wir sehen ihn bereits voraus\, oder er trifft uns unerwartet wie ein Sensenstreich. Manchmal sehen wir ihm ins Auge und entgehen ihm doch. Den Tod kennenzulernen heißt\, das Leben neu kennenzulernen. Vielleicht geben wir dadurch etwas an andere Menschen weiter\, das wir ansonsten mit ins Grab genommen hätten. Aber kann man den eigenen Tod ins Leben einplanen? Was sagt man in einer Totenrede nachträglich über einen Verstorbenen? Und was denken eigentlich Kinder über den Tod? \nDer Tod bedeutet für jeden etwas anderes\, für den Umgang mit ihm gibt es kein allgemeingültiges Rezept. Denn er ist so individuell wie die Menschen\, die ihn sterben\, miterleben und begleiten. Diese Individualität nehmen die hier zusammengestellten Kurzgeschichten in den Blick\, manchmal mit einem weinenden\, manchmal mit einem lachenden Auge. \nÜber den Autor:\nChristof Messerschmidt wurde 1970 in Ludwigsburg geboren. Schon während seines Studiums zeigte sich sein Interesse an allem\, was mit dem Sterben und Leben nach dem Tod zu tun hat. Wie gehen Menschen damit um\, dass sie sterblich sind\, und welche Hoffnungen tragen sie?\nDas Schreiben hat seine berufliche Laufbahn als Pfarrer der württembergischen Landeskirche begleitet. Christof Messerschmidt verfasste Lieder\, Oratorien und ein Kindermusical. 2017 gewann er den ersten Stuttgarter Preacher Slam.\nEr ist verheiratet und Vater von zwei erwachsenen Söhnen. Seit 2022 wirkt er als Dekan in Schwäbisch Hall. Seine Auseinandersetzung mit dem Thema Tod schlägt sich in dem vorliegenden Kurzgeschichtenband Sarg und Sense nieder. \nLeseprobe I Jetzt versandkostenfrei (in DE) bestellen
URL:https://einhornverlag.de/event/premierenlesung-sarg-und-sense-in-lorch/
LOCATION:Buchhandlung Semicolon\, Karlsplatz 1\, Lorch\, 73547
CATEGORIES:Termine
ATTACH;FMTTYPE=image/jpeg:https://einhornverlag.de/wp-content/uploads/2024/03/Teaserbilder-Messerschmidt-scaled.jpg
END:VEVENT
END:VCALENDAR